BEGIN:VCALENDAR
VERSION:2.0
PRODID:icalendar-ruby
CALSCALE:GREGORIAN
METHOD:PUBLISH
BEGIN:VTIMEZONE
TZID:Europe/London
BEGIN:DAYLIGHT
DTSTART:20260329T020000
TZOFFSETFROM:+0000
TZOFFSETTO:+0100
RRULE:FREQ=YEARLY;BYDAY=-1SU;BYMONTH=3
TZNAME:BST
END:DAYLIGHT
BEGIN:STANDARD
DTSTART:20261025T010000
TZOFFSETFROM:+0100
TZOFFSETTO:+0000
RRULE:FREQ=YEARLY;BYDAY=-1SU;BYMONTH=10
TZNAME:GMT
END:STANDARD
END:VTIMEZONE
BEGIN:VEVENT
DTSTAMP:20260421T073655Z
UID:1106606
DTSTART;TZID=Europe/London:20260512T070000
DTEND;TZID=Europe/London:20260512T090000
LOCATION:Chelmsford City Football Club
SEQUENCE:1776335321
SUMMARY:Networking Breakfast - Tuesday 12th May
END:VEVENT
END:VCALENDAR
